BEGIN:VCALENDAR
VERSION:2.0
PRODID:-//wp-events-plugin.com//7.0.5//EN
BEGIN:VEVENT
UID:72@smmt.co.uk
DTSTART;TZID=Europe/London;VALUE=DATE:20260316
DTEND;TZID=Europe/London;VALUE=DATE:20260319
DTSTAMP:20260219T100802Z
URL:https://www.smmt.co.uk/press-events/uk-press-event/
SUMMARY:UK Press Event
DESCRIPTION:UK Press Launch with Automotive Media
CATEGORIES:Industry
END:VEVENT
BEGIN:VTIMEZONE
TZID:Europe/London
X-LIC-LOCATION:Europe/London
BEGIN:STANDARD
DTSTART:20251026T010000
TZOFFSETFROM:+0100
TZOFFSETTO:+0000
TZNAME:GMT
END:STANDARD
END:VTIMEZONE
END:VCALENDAR